BEGIN:VCALENDAR
VERSION:2.0
PRODID:-//Wave Paddler - Charleston, SC - ECPv6.15.14//NONSGML v1.0//EN
CALSCALE:GREGORIAN
METHOD:PUBLISH
X-ORIGINAL-URL:https://wavepaddler.com
X-WR-CALDESC:Events for Wave Paddler - Charleston, SC
REFRESH-INTERVAL;VALUE=DURATION:PT1H
X-Robots-Tag:noindex
X-PUBLISHED-TTL:PT1H
BEGIN:VTIMEZONE
TZID:America/New_York
BEGIN:DAYLIGHT
TZOFFSETFROM:-0500
TZOFFSETTO:-0400
TZNAME:EDT
DTSTART:20230312T070000
END:DAYLIGHT
BEGIN:STANDARD
TZOFFSETFROM:-0400
TZOFFSETTO:-0500
TZNAME:EST
DTSTART:20231105T060000
END:STANDARD
BEGIN:DAYLIGHT
TZOFFSETFROM:-0500
TZOFFSETTO:-0400
TZNAME:EDT
DTSTART:20240310T070000
END:DAYLIGHT
BEGIN:STANDARD
TZOFFSETFROM:-0400
TZOFFSETTO:-0500
TZNAME:EST
DTSTART:20241103T060000
END:STANDARD
BEGIN:DAYLIGHT
TZOFFSETFROM:-0500
TZOFFSETTO:-0400
TZNAME:EDT
DTSTART:20250309T070000
END:DAYLIGHT
BEGIN:STANDARD
TZOFFSETFROM:-0400
TZOFFSETTO:-0500
TZNAME:EST
DTSTART:20251102T060000
END:STANDARD
END:VTIMEZONE
BEGIN:VEVENT
DTSTART;TZID=America/New_York:20240503T080000
DTEND;TZID=America/New_York:20240505T170000
DTSTAMP:20260420T091637
CREATED:20240229T164422Z
LAST-MODIFIED:20240229T164422Z
UID:5170-1714723200-1714928400@wavepaddler.com
SUMMARY:ACA Level 3 Coastal Kayaking Instructor Development Workshop (IDW)
DESCRIPTION:ACA Level 3 IDW – May 3-5\, 2024. \nJoin Ashley Brown in Charleston\, South Carolina for this 3-day instructor training course.\nPlease see the ACA Level 3 Instructor Criteria for the content we will be working on. This class is focused on making you become a better instructor\, leader\, and paddler. This is an interactive course where the instructor candidates will be teaching and performing at a high level of competence.\nParticipants must have completed an ACA Level 3 Coastal Kayaking Skills Assessment before attending as a candidate.\nThe price covers your course fee only. $450\nAccommodations are on your own. I have kayaks and equipment you can rent. I will be glad to assist with advice on rental locations as much as possible. Feel free to send me an email with any questions. wavepaddlerashley@gmail.comn Charleston\, South Carolina for this 3-day instructor training course.\nPlease see the ACA Level 3 Instructor Criteria for the content we will be working on. This class is focused on making you become a better instructor\, leader\, and paddler. This is an interactive course where the instructor candidates will be teaching and performing at a high level of competence.\nParticipants must have completed an ACA Level 3 Coastal Kayaking Skills Assessment before attending as a candidate.\nThe price covers your course fee only. $450\nAccommodations are on your own. I have kayaks and equipment you can rent. I will be glad to assist with advice on rental locations as much as possible. Feel free to send me an email with any questions. wavepaddlerashley@gmail.com
URL:https://wavepaddler.com/event/aca-level-3-coastal-kayaking-instructor-development-workshop-idw/
LOCATION:Charleston\, SC
END:VEVENT
BEGIN:VEVENT
DTSTART;TZID=America/New_York:20240521T080000
DTEND;TZID=America/New_York:20240601T170000
DTSTAMP:20260420T091637
CREATED:20230721T034621Z
LAST-MODIFIED:20230721T034621Z
UID:5100-1716278400-1717261200@wavepaddler.com
SUMMARY:Greece - 2024
DESCRIPTION:Day schedule and logistics: \nDay 1 Tuesday 21 – Arrive in Athens airport – transfer to Athens center – Accommodation in hotel – welcome Greek dinner in tavern in Monastiraki square\nDay 2 Wednesday 22 – guided visit of the Old town and Parthenon – free lunch – dinner in greek tavern\nDay 3 Thursday 23 – transfer back to the airport and flight to the island of Kefalonia – meet with me at the airport – lodgment in hotel – intro of the kayaking trip and first warming paddling – dinner – accommodation in Kefalonia\nDay 4 Friday 24 – first day trip in the island of Kefalonia – Paddling Sami – Poros (25 km) – accommodation in Kefalonia\nDay 5 Saturday 25 – second day trip in the island of Kefalonia – Paddling Assos – Atheras (25 km) – accommodation in Kefalonia\nDay 6 Sunday 26 – third day trip in the island of Kefalonia – Fiskardo Agia Efimia (25 km) – accommodation in Kefalonia\nDay 7 Monday 27 – Paddling to Itaka – Fiskardo Kioni ( 25 km ) – accommodation in Itaka\nDay 8 Tuesday 28 – day exploring Itaka island – Odyssey museum – walk on the little town of Vathy – accommodation in Itaka\nDay 9 Wednesday 29 – Paddling back to Kefalonia – Kioni Fiskardo\n(25 km) – Celebrating dinner in Kefalonia – Accommodation in Kefalonia\nDay 10 Thursday 30 – Flight back home \nAccommodation plan: \nDay 21 and 22 May – Athens center town (2 nights)\nDay 23\, 24\, 25\, 26 May – Kefalonia island (4 nights)\nDay 27 and 28 May – Itaka island (2 nights)\nDay 29 May – Kefalonia island (1 night) \nPrice include: \nall the accommodations in category 3 stars hotel with breakfast\, packed lunch\, dinners in selected local restaurants\, all logistics in the islands\, museum entrance fee\, guided visit in Athens\, guided visit of Itaka island\, rent of kayaking equipment of first quality\, guided kayaking trips. Price doesn’t include drinks and alcohol. \nPrice: \n– 3900 euro in double accommodation\n– 4500 euro in single accommodation \n$1000 Deposit due immediately. Balance will be collected March 1 2024
URL:https://wavepaddler.com/event/greece-2024/
END:VEVENT
END:VCALENDAR