BEGIN:VCALENDAR
VERSION:2.0
PRODID:-//Wave Paddler - Charleston, SC - ECPv6.15.14//NONSGML v1.0//EN
CALSCALE:GREGORIAN
METHOD:PUBLISH
X-ORIGINAL-URL:https://wavepaddler.com
X-WR-CALDESC:Events for Wave Paddler - Charleston, SC
REFRESH-INTERVAL;VALUE=DURATION:PT1H
X-Robots-Tag:noindex
X-PUBLISHED-TTL:PT1H
BEGIN:VTIMEZONE
TZID:America/New_York
BEGIN:DAYLIGHT
TZOFFSETFROM:-0500
TZOFFSETTO:-0400
TZNAME:EDT
DTSTART:20220313T070000
END:DAYLIGHT
BEGIN:STANDARD
TZOFFSETFROM:-0400
TZOFFSETTO:-0500
TZNAME:EST
DTSTART:20221106T060000
END:STANDARD
BEGIN:DAYLIGHT
TZOFFSETFROM:-0500
TZOFFSETTO:-0400
TZNAME:EDT
DTSTART:20230312T070000
END:DAYLIGHT
BEGIN:STANDARD
TZOFFSETFROM:-0400
TZOFFSETTO:-0500
TZNAME:EST
DTSTART:20231105T060000
END:STANDARD
BEGIN:DAYLIGHT
TZOFFSETFROM:-0500
TZOFFSETTO:-0400
TZNAME:EDT
DTSTART:20240310T070000
END:DAYLIGHT
BEGIN:STANDARD
TZOFFSETFROM:-0400
TZOFFSETTO:-0500
TZNAME:EST
DTSTART:20241103T060000
END:STANDARD
END:VTIMEZONE
BEGIN:VEVENT
DTSTART;TZID=America/New_York:20230920T080000
DTEND;TZID=America/New_York:20230921T170000
DTSTAMP:20260420T213252
CREATED:20230105T182249Z
LAST-MODIFIED:20230105T182249Z
UID:5082-1695196800-1695315600@wavepaddler.com
SUMMARY:Surf Camps!
DESCRIPTION:Surf Camps! \nWeds – Thurs\, (Sept. 20-21) \nInstructors: Dale Williams\, Tom Noffsinger\, Jeff Atkins\, Ashley Brown \nLocation: Cape Charles\, VA \nCost: $295 (+ housing) \n​ \nThese two-day\, pre-symposium surf camps are geared to paddlers who want some intensive instruction to improve their surfing skills. There will be two tracks: advanced and intermediate. The venues will include Metompkin Inlet and/or Smith Inlet. There is an additional fee of $295 for this training and registration is separate from the symposium registration. Group housing will be available. If you are interested\, please contact Rick Wiebush (rwiebush@gmail.com; 410.788.1241). \nAdvanced Surfing Track \nThis course will be run by Dale Williams (ACA L5 ITE) and Tom Noffsinger (ACA L5). It is for people who have a lot of surf experience\, a reliable roll in conditions\, strong self-rescue skills\, a strong forward stroke and plenty of stamina. You need a helmet. In addition to refining several aspects of surfing technique\, both days will include an extensive (e.g.\, 1.5 hour) debrief session to reflect on what you’ve accomplished\, where you want to go next\, and any “incidents” that may have occurred. These debriefs will take place at one of the group houses after people have had a chance to shower and change. This course is limited to eight participants. \n​ \nIntermediate Surfing Track \nThis course will be led by Jeff Atkins (ACA L4 IT). It is geared toward people who have paddled in surf multiple times\, have taken at least one formal surf class\, but have surfed primarily in a shore break. You should feel comfortable in 2 – 3 ft surf. A roll is a definite plus but not required. However\, you should be adept at one or more self – rescues and totally competent with assisted rescues. The skills will include understanding the surf zone\, identifying safe areas\, the set-up and take-off\, timing\, power strokes\, holding position on the wave\, surf zone etiquette\, and launching and landing\, among others. There will be lots of drills to increase your confidence in a dynamic environment. You need a helmet. This course is limited to eight participants.
URL:https://wavepaddler.com/event/surf-camps/
LOCATION:Cape Charles\, VA\, United States
ORGANIZER;CN="Rick Wiebush":MAILTO:crosscurrentsseakayaking@gmail.com
END:VEVENT
BEGIN:VEVENT
DTSTART;TZID=America/New_York:20230922T080000
DTEND;TZID=America/New_York:20230924T170000
DTSTAMP:20260420T213252
CREATED:20220110T185926Z
LAST-MODIFIED:20230105T180458Z
UID:5036-1695369600-1695574800@wavepaddler.com
SUMMARY:Kiptopeke Sea Kayaking Symposium
DESCRIPTION:11th Annual Kiptopeke Sea Kayaking Symposium  \nCost: $375 (includes three days of classes + Sat. dinner; lodging is separate) \n  \nThe Kiptopeke Symposium routinely is a fabulous event – people love it! There are several reasons for all the positive reviews including: \n  \n\n\nthe range of courses\, with everything from novice to advanced level courses; and the number of courses\, with about 10 to choose from each day \n\n\n  \n\n\nthe quality of the coaches\, who are the best in the mid-Atlantic area and include some who are considered to be the best in the country \n\n\n  \n\n\nthe mix of participants\, who come from 10 -12 different states\, some as far away as Tennessee\, Texas\, California\, Florida and Canada! \n\n\n  \n\n\nthe fact that the vast majority of participants stay together in the beautiful state park lodges\, which helps create a wonderful sense of community \n\n\n  \n\n\nthe venue itself\, next to the Virginia barrier islands\, and with immediate access to the calmer waters of the Chesapeake Bay and the rougher conditions that can be had in the Atlantic Ocean. \n\n\nThe 2022 courses will be finalized by about May 15 and registration will start that date as well.  We will email everyone when registration opens. \nWe plan to offer the most popular courses from past years\, plus some new ones. Typical courses include: \n\n\nBeginning and Advanced Rolling \n\n\nGreenland Skills \n\n\nIntermediate skills \n\n\nLife on the Edge and Open Water Skills \n\n\nIntro to Surf; Advanced Surfing \n\n\nIntro to Rougher Water \n\n\nBasic and Advanced Rescues \n\n\nTowing \n\n\nPaddling with Grace and Style \n\n\nEdging and Bracing \n\n\nWreckage in the Wave Train \n\n\nAdvanced Navigation \n\n\nBarrier Island touring trips \n\n\nAlso\, don’t forget to check out the video here: http://www.youtube.com/watch?v=PA6ls-AsWl0 \nHousing \nMost people will be staying in one of the five Kiptopeke State Park lodges that we’ve rented for this year. The lodges all have six bedrooms and three baths with a full kitchen and plenty of room to spread out and relax. \n  \nThere are several other housing options available for those who don’t want to be with a group. Kiptopeke State Park has a really nice campground and there are several motels in the area.
URL:https://wavepaddler.com/event/kiptopeke-sea-kayaking-symposium/
LOCATION:Cape Charles\, VA\, United States
ORGANIZER;CN="Rick Wiebush":MAILTO:crosscurrentsseakayaking@gmail.com
END:VEVENT
END:VCALENDAR