BEGIN:VCALENDAR
VERSION:2.0
PRODID:-//Wave Paddler - Charleston, SC - ECPv6.15.14//NONSGML v1.0//EN
CALSCALE:GREGORIAN
METHOD:PUBLISH
X-ORIGINAL-URL:https://wavepaddler.com
X-WR-CALDESC:Events for Wave Paddler - Charleston, SC
REFRESH-INTERVAL;VALUE=DURATION:PT1H
X-Robots-Tag:noindex
X-PUBLISHED-TTL:PT1H
BEGIN:VTIMEZONE
TZID:America/New_York
BEGIN:DAYLIGHT
TZOFFSETFROM:-0500
TZOFFSETTO:-0400
TZNAME:EDT
DTSTART:20220313T070000
END:DAYLIGHT
BEGIN:STANDARD
TZOFFSETFROM:-0400
TZOFFSETTO:-0500
TZNAME:EST
DTSTART:20221106T060000
END:STANDARD
BEGIN:DAYLIGHT
TZOFFSETFROM:-0500
TZOFFSETTO:-0400
TZNAME:EDT
DTSTART:20230312T070000
END:DAYLIGHT
BEGIN:STANDARD
TZOFFSETFROM:-0400
TZOFFSETTO:-0500
TZNAME:EST
DTSTART:20231105T060000
END:STANDARD
BEGIN:DAYLIGHT
TZOFFSETFROM:-0500
TZOFFSETTO:-0400
TZNAME:EDT
DTSTART:20240310T070000
END:DAYLIGHT
BEGIN:STANDARD
TZOFFSETFROM:-0400
TZOFFSETTO:-0500
TZNAME:EST
DTSTART:20241103T060000
END:STANDARD
END:VTIMEZONE
BEGIN:VEVENT
DTSTART;TZID=America/New_York:20230123T080000
DTEND;TZID=America/New_York:20230129T170000
DTSTAMP:20260421T091211
CREATED:20230106T002953Z
LAST-MODIFIED:20230106T002953Z
UID:5084-1674460800-1675011600@wavepaddler.com
SUMMARY:Bahamas Exploration - Trip is Full
DESCRIPTION:Where: Eleuthera\, Bahamas Trip 2023 \nDates: Arrive January 23\, 2023  – Depart: January 29\, 2023 \nCapacity 6 minimum – 10 Maximum \nLeader: Jeff Atkins \nCosts:  = $2250 per person + flights + meals and drinks not eaten at the Island School \n50% Deposit due ASAP to lock in place. Final Balance due by December 1\, 2022 \nCost covers: Airport shuttle to and from The Island School. Breakfast\, Lunch and Dinner eaten on Campus. Kayaking and snorkeling gear. Boat ride to snorkeling location(s). Shuttle around Eleuthera for a tour. \nNot covered: Flights\, shuttles outside of the below mentioned\, any meals not eaten on Campus\, DAN insurance for snorkeling/diving \nCancellation Policy (Events and Classes) \nOur event holds limited seating\, and many of our [Events/Classes] sell out. For this reason\, we request that you cancel by November 1\, 2022. There will be a $200 cancellation fee prior to November 1\, 2023. After November 1\, there are no refunds This will allow us to offer your spot to another [Student/Customer]. You may call us at 843-441-0328 or email between the hours of 8a.m. to 5 p.m. Eastern Time to cancel. \nLocation: –  Eleuthera\, Bahamas \nItinerary: \nDay 1: Arrive at Rock Sound\, Eleuthera (RSD) Airport by 4:30 p.m. \nTravel to (NAS) Lynden Pindling International Airport and catch a flight from there to (RSD) Rock Sound International using Bahamas Air or Pineapple Air to arrive at 4:15 p.m. I have found it cheaper to book directly through Bahamas Air. \nShuttle will pick us up at the Airport between 4:30 p.m. and 5:00 p.m. \nDay 2:  Kayaking trip from exploring the local waterways. Plenty of swimming and beautiful water. \nDay 3: Island Tour – Tour around the Island to see local beaches\, caves\, restaurants\, bakery’s etc \nDay 4: Kayaking tour \nDay 5: Island Tour or kayaking tour \nDay6: Snorkeling \nDay 7: Depart campus early AM (Estimated departure time of 6:30 a.m.) to catch flights from RSD to NAS. \n*** Itinerary is subject to change due to weather and logistics needs.
URL:https://wavepaddler.com/event/bahamas-exploration-trip-is-full/
LOCATION:Eleuthera\, Bahamas
ORGANIZER;CN="Jeff Atkins":MAILTO:wavepaddlerjeff@gmail.com
END:VEVENT
END:VCALENDAR