BEGIN:VCALENDAR
VERSION:2.0
PRODID:-//Wave Paddler - Charleston, SC - ECPv6.15.14//NONSGML v1.0//EN
CALSCALE:GREGORIAN
METHOD:PUBLISH
X-WR-CALNAME:Wave Paddler - Charleston, SC
X-ORIGINAL-URL:https://wavepaddler.com
X-WR-CALDESC:Events for Wave Paddler - Charleston, SC
REFRESH-INTERVAL;VALUE=DURATION:PT1H
X-Robots-Tag:noindex
X-PUBLISHED-TTL:PT1H
BEGIN:VTIMEZONE
TZID:America/New_York
BEGIN:DAYLIGHT
TZOFFSETFROM:-0500
TZOFFSETTO:-0400
TZNAME:EDT
DTSTART:20210314T070000
END:DAYLIGHT
BEGIN:STANDARD
TZOFFSETFROM:-0400
TZOFFSETTO:-0500
TZNAME:EST
DTSTART:20211107T060000
END:STANDARD
BEGIN:DAYLIGHT
TZOFFSETFROM:-0500
TZOFFSETTO:-0400
TZNAME:EDT
DTSTART:20220313T070000
END:DAYLIGHT
BEGIN:STANDARD
TZOFFSETFROM:-0400
TZOFFSETTO:-0500
TZNAME:EST
DTSTART:20221106T060000
END:STANDARD
BEGIN:DAYLIGHT
TZOFFSETFROM:-0500
TZOFFSETTO:-0400
TZNAME:EDT
DTSTART:20230312T070000
END:DAYLIGHT
BEGIN:STANDARD
TZOFFSETFROM:-0400
TZOFFSETTO:-0500
TZNAME:EST
DTSTART:20231105T060000
END:STANDARD
END:VTIMEZONE
BEGIN:VEVENT
DTSTART;TZID=America/New_York:20220330T080000
DTEND;TZID=America/New_York:20220404T170000
DTSTAMP:20260421T222237
CREATED:20220111T023058Z
LAST-MODIFIED:20220111T023058Z
UID:5040-1648627200-1649091600@wavepaddler.com
SUMMARY:ACA L3 Coastal Kayaking Instructor Development Workshop/Certification Exam
DESCRIPTION:Thursday\, March 31\, 20229:00 AM\nMonday\, April 4\, 20224:00 PM\n\n\nCalifornia Watersport CollectiveHorseshoe Bay Marin\, CAUnited States (map)\n\n\n\n\n\n\n\n\nInterested in becoming an American Canoe Association L3 Instructor or stepping up your leadership and teaching skills? The Bay Area is one of the best classrooms for leveling up and building confidence as an instructor.  You’ll have the chance to assess in an exciting environment with quick-changing conditions. You can take the course as just or workshop\, just an evaluation/certification\, or both. \n\n\n\n\n \n \n\n\n\n\n\n\n\n\n\nYou can either  participate as a candidate developing your skills or participate as a candidate seeking certification. This IDW/ICE is offered ed by Jeff Atkins (ACA L3 IT/ L5 AOWCK Instructor) and Laura Zulliger (ACA L5 AOWCK Instructor\, L4 OWCK ITC). \nWe’ll dive into L3 conditions\, techniques\, and maneuvers all while learning and testing new pedagogical approaches both on and off the water. We will be paddling and teaching in tidal current up to 2 knots\, wind up to 15 knots and surf up to 2 feet. We will be learning how to teach navigation\, mitigate risk and manage incidents and provide effective coaching in technique. \nPlease review the ACA’s update L3 Instructor Criteria. \nPre-requisites: In order to participate as a candidate\, you will need to: \n\n\nComplete an L3 Skills Assessment prior to the IDW/ICE \n\n\nPlease Note: Existing L3 OWCK Instructors may take this course as an Update to meet the ACA’s Instructor Maintenance Requirements. \nCOST: \n\n\nFull IDW/ICE (Thursday – Monday): $600 \n\n\n\n\nIDW (Thursday – Saturday) Only: $399 \n\n\nICE (Sunday – Monday) Only: $399 \n\n\nIDW (Thursday – Saturday) Update: $300 \n\n\n\n\n\n\nREGISTER NOW\n\n\n\n\nL3 Coastal Kayak IDW/ICE | Marin\, CA | Thursday\, March 31 – Mon. April 4\, 2022\nPlease CONTACT Jeff Atkins if you have any questions or would like to reserve space. \nPlease note: Cost does not include food\, accommodation\, kayak and gear rental. We have a fleet of kayaks available for candidates flying to the Bay Area for our instructor programs. Kayaks must be reserved well in advance. Please contact us to reserve a kayak.
URL:https://wavepaddler.com/event/aca-l3-coastal-kayaking-instructor-development-workshop-certification-exam/
LOCATION:San Francisco\, CA\, United States
ORGANIZER;CN="Jeff Atkins":MAILTO:wavepaddlerjeff@gmail.com
END:VEVENT
END:VCALENDAR