BEGIN:VCALENDAR
VERSION:2.0
PRODID:-//Wave Paddler - Charleston, SC - ECPv6.15.14//NONSGML v1.0//EN
CALSCALE:GREGORIAN
METHOD:PUBLISH
X-WR-CALNAME:Wave Paddler - Charleston, SC
X-ORIGINAL-URL:https://wavepaddler.com
X-WR-CALDESC:Events for Wave Paddler - Charleston, SC
REFRESH-INTERVAL;VALUE=DURATION:PT1H
X-Robots-Tag:noindex
X-PUBLISHED-TTL:PT1H
BEGIN:VTIMEZONE
TZID:America/New_York
BEGIN:DAYLIGHT
TZOFFSETFROM:-0500
TZOFFSETTO:-0400
TZNAME:EDT
DTSTART:20190310T070000
END:DAYLIGHT
BEGIN:STANDARD
TZOFFSETFROM:-0400
TZOFFSETTO:-0500
TZNAME:EST
DTSTART:20191103T060000
END:STANDARD
BEGIN:DAYLIGHT
TZOFFSETFROM:-0500
TZOFFSETTO:-0400
TZNAME:EDT
DTSTART:20200308T070000
END:DAYLIGHT
BEGIN:STANDARD
TZOFFSETFROM:-0400
TZOFFSETTO:-0500
TZNAME:EST
DTSTART:20201101T060000
END:STANDARD
BEGIN:DAYLIGHT
TZOFFSETFROM:-0500
TZOFFSETTO:-0400
TZNAME:EDT
DTSTART:20210314T070000
END:DAYLIGHT
BEGIN:STANDARD
TZOFFSETFROM:-0400
TZOFFSETTO:-0500
TZNAME:EST
DTSTART:20211107T060000
END:STANDARD
END:VTIMEZONE
BEGIN:VTIMEZONE
TZID:UTC
BEGIN:STANDARD
TZOFFSETFROM:+0000
TZOFFSETTO:+0000
TZNAME:UTC
DTSTART:20180101T000000
END:STANDARD
END:VTIMEZONE
BEGIN:VEVENT
DTSTART;TZID=America/New_York:20200306T080000
DTEND;TZID=America/New_York:20200309T170000
DTSTAMP:20260419T194812
CREATED:20191206T193237Z
LAST-MODIFIED:20191206T231506Z
UID:842-1583481600-1583773200@wavepaddler.com
SUMMARY:ACA Level 2 Essentials of Kayak Touring ICW at Artist Boat in Galveston TX
DESCRIPTION:Instructor Trainer: Ashley Brown
URL:https://wavepaddler.com/event/aca-level-2-essentials-of-kayak-touring-icw-at-artist-boat-in-galveston-tx/
LOCATION:Galveston\, TX
ATTACH;FMTTYPE=image/jpeg:https://wavepaddler.com/wp-content/uploads/Jeff-Atkins-surf.jpg
ORGANIZER;CN="Amanda Rinehart":MAILTO:arinehart@artistboat.org
END:VEVENT
BEGIN:VEVENT
DTSTART;TZID=America/New_York:20200221T080000
DTEND;TZID=America/New_York:20200225T170000
DTSTAMP:20260419T194812
CREATED:20191206T191729Z
LAST-MODIFIED:20191206T230848Z
UID:835-1582272000-1582650000@wavepaddler.com
SUMMARY:Paddle 2 the People
DESCRIPTION:Come join us for our second year! \n@ Wekiwa Springs State Park\nWe’re going to have a lot of fun.  SUP camaraderie\, paddling trips\, classes\, Instructor Certification opportunities\, and more. \nThe weather is going to be great.  The average daily high is 74 degrees and low of 53 during February. \nWekiwa is a 2nd magnitude spring that is 72-74 degrees crystal clear water year round.  It feeds a beautiful basin/pond that is the headwaters to the Wekiva River.  Rock Springs run is another spring fed tributary that joins the Wekiva river about a mile downstream.  We’ll be staying in a private camp within the 7\,000 acres of Wekiva Springs State park with cabins\, a rec hall\, kitchen\, dining area\, fire pits\, outdoor classrooms\, etc.
URL:https://wavepaddler.com/event/paddle-2-the-people/
LOCATION:Wekiva State Park
ATTACH;FMTTYPE=image/jpeg:https://wavepaddler.com/wp-content/uploads/paddle.jpg
ORGANIZER;CN="Todd Bishop":MAILTO:info@paddle2thepeople.com
END:VEVENT
BEGIN:VEVENT
DTSTART;TZID=America/New_York:20200117T080000
DTEND;TZID=America/New_York:20200120T170000
DTSTAMP:20260419T194812
CREATED:20191216T121929Z
LAST-MODIFIED:20191216T121929Z
UID:970-1579248000-1579539600@wavepaddler.com
SUMMARY:L2 Instructor Update - Essentials of Kayak Touring\, Canoe Touring\, River Kayak
DESCRIPTION:This is a joint venture with RiverCoast in Austin\,Texas. \nACA Instructor Trainers/Educators – Kent Ford\, Dale Williams\, Jeff Atkins
URL:https://wavepaddler.com/event/l2-instructor-update-essentials-of-kayak-touring-canoe-touring-river-kayak/
ORGANIZER;CN="Lynne Andrus":MAILTO:lynne@rivercoast.com
END:VEVENT
BEGIN:VEVENT
DTSTART;TZID=UTC:20191109T150000
DTEND;TZID=UTC:20191111T150000
DTSTAMP:20260419T194812
CREATED:20191020T024003Z
LAST-MODIFIED:20191020T024022Z
UID:442-1573311600-1573484400@wavepaddler.com
SUMMARY:Kayak Training
DESCRIPTION:Where:  Seabrook Island\, S.C – St Christopher Camp & Conference Center \nWhen:  Veterans Day weekend November 9-11\, 2019 \nTrainers:  Ashley Brown and Jeff Atkins \nDetails:  Check-in Friday Nov. 8\, 2019 after 3pm | Check-out by 10am Monday Nov. 11\, 2019 (arrangements can be made to stay additional nights if rooms are available) \n\nCONCEPT: 2 ½ days of Training\, Touring & Fun (before the snow flies) Camp St. Christopher is on Seabrook Island and is a secluded quiet summer camp property. Lodging includes Air-conditioned rooms\, warm showers\, and breakfasts. Due to the close proximity to the ocean\, we will have easy evening walks on the beach. A conference room provides us a great group meeting space for class and social activities. Dolphins strand feed along the banks and bioluminescence provides for a magical nighttime experience. There is no light pollution\, so it is a perfect spot for star gazing! We are a short drive to some local restaurants and can enjoy an evening campfire near the dunes. \n\nA Sample Plan – Understanding that we will modify the plan considering weather\, skill and interest.Saturday – Teach and Trek Paddle to Botany Bay. We will paddle in the Edisto River and the small creek behind Botany Bay. Review currents and tides. Do some on the go navigation\, and get used to some small waves. We will plan to practice some rescues.Sunday – We will cross over to Deveaux Banks and try to circumnavigate it! There might be breaking waves and surfable conditions. This will be the rough water day to try new things and push your boundaries.Monday – Exhausted but still excited\, we will take this half day to surf\, or relax and sight sea (Sea what I did there?) \nWho should come:While this isn’t designed for people who are brand new to kayaking\, you do not need to be an expert or an ocean paddler. The North Edisto Inlet provides multiple venues to include ocean surf\, bouncy waves\, river crossings\, spectacular marsh views\, and access to the undeveloped beaches of Botany Bay. Therefore paddlers can enjoy the conditions that suits them best. We will be launching into the North Edisto River near the Inlet. At that point you can turn inland to Privateer creek\, cross the river to paddle around Botany Bay\, or turn toward the Deveaux Bank and the Ocean. \n\n\nCOST: $465\nSend payment to Jeff via PayPal at justoverdoit@yahoo.com \n\n\nOR\nMail a check to Wavepaddler\, 531 Sweetbay Rd.\, Charleston\, SC 29412
URL:https://wavepaddler.com/event/kayak-training/
LOCATION:Camp St Christopher\, 2810 Seabrook Island Road\, Seabrook Island\, SC\, 29455
END:VEVENT
END:VCALENDAR