BEGIN:VCALENDAR
VERSION:2.0
PRODID:-//Wave Paddler - Charleston, SC - ECPv6.15.14//NONSGML v1.0//EN
CALSCALE:GREGORIAN
METHOD:PUBLISH
X-ORIGINAL-URL:https://wavepaddler.com
X-WR-CALDESC:Events for Wave Paddler - Charleston, SC
REFRESH-INTERVAL;VALUE=DURATION:PT1H
X-Robots-Tag:noindex
X-PUBLISHED-TTL:PT1H
BEGIN:VTIMEZONE
TZID:America/New_York
BEGIN:DAYLIGHT
TZOFFSETFROM:-0500
TZOFFSETTO:-0400
TZNAME:EDT
DTSTART:20190310T070000
END:DAYLIGHT
BEGIN:STANDARD
TZOFFSETFROM:-0400
TZOFFSETTO:-0500
TZNAME:EST
DTSTART:20191103T060000
END:STANDARD
BEGIN:DAYLIGHT
TZOFFSETFROM:-0500
TZOFFSETTO:-0400
TZNAME:EDT
DTSTART:20200308T070000
END:DAYLIGHT
BEGIN:STANDARD
TZOFFSETFROM:-0400
TZOFFSETTO:-0500
TZNAME:EST
DTSTART:20201101T060000
END:STANDARD
BEGIN:DAYLIGHT
TZOFFSETFROM:-0500
TZOFFSETTO:-0400
TZNAME:EDT
DTSTART:20210314T070000
END:DAYLIGHT
BEGIN:STANDARD
TZOFFSETFROM:-0400
TZOFFSETTO:-0500
TZNAME:EST
DTSTART:20211107T060000
END:STANDARD
END:VTIMEZONE
BEGIN:VEVENT
DTSTART;VALUE=DATE:20200924
DTEND;VALUE=DATE:20200928
DTSTAMP:20260419T200938
CREATED:20200820T235307Z
LAST-MODIFIED:20200820T235642Z
UID:4902-1600905600-1601251199@wavepaddler.com
SUMMARY:ACA L-4 Coastal Kayak ICW
DESCRIPTION:Join Ashley Brown and Dale Williams for an ACA L-4 Instructor Certification Workshop. More details coming soon….
URL:https://wavepaddler.com/event/l-4-icw/
LOCATION:Huntington Beach State Park\, SC\, 16148 Ocean Hwy\, Murrells Inlet\, SC\, 29576\, United States
CATEGORIES:ACA ICW
END:VEVENT
END:VCALENDAR