BEGIN:VCALENDAR
VERSION:2.0
PRODID:-//Wave Paddler - Charleston, SC - ECPv6.15.14//NONSGML v1.0//EN
CALSCALE:GREGORIAN
METHOD:PUBLISH
X-ORIGINAL-URL:https://wavepaddler.com
X-WR-CALDESC:Events for Wave Paddler - Charleston, SC
REFRESH-INTERVAL;VALUE=DURATION:PT1H
X-Robots-Tag:noindex
X-PUBLISHED-TTL:PT1H
BEGIN:VTIMEZONE
TZID:America/New_York
BEGIN:DAYLIGHT
TZOFFSETFROM:-0500
TZOFFSETTO:-0400
TZNAME:EDT
DTSTART:20240310T070000
END:DAYLIGHT
BEGIN:STANDARD
TZOFFSETFROM:-0400
TZOFFSETTO:-0500
TZNAME:EST
DTSTART:20241103T060000
END:STANDARD
BEGIN:DAYLIGHT
TZOFFSETFROM:-0500
TZOFFSETTO:-0400
TZNAME:EDT
DTSTART:20250309T070000
END:DAYLIGHT
BEGIN:STANDARD
TZOFFSETFROM:-0400
TZOFFSETTO:-0500
TZNAME:EST
DTSTART:20251102T060000
END:STANDARD
BEGIN:DAYLIGHT
TZOFFSETFROM:-0500
TZOFFSETTO:-0400
TZNAME:EDT
DTSTART:20260308T070000
END:DAYLIGHT
BEGIN:STANDARD
TZOFFSETFROM:-0400
TZOFFSETTO:-0500
TZNAME:EST
DTSTART:20261101T060000
END:STANDARD
END:VTIMEZONE
BEGIN:VEVENT
DTSTART;TZID=America/New_York:20250120T080000
DTEND;TZID=America/New_York:20250126T170000
DTSTAMP:20260419T205348
CREATED:20240714T175513Z
LAST-MODIFIED:20240714T175513Z
UID:5177-1737360000-1737910800@wavepaddler.com
SUMMARY:Bahamas Exploration  -  Eleuthera 2025
DESCRIPTION:Where: Eleuthera\, Bahamas  2025 \nDates: Arrive January 20\, 2025 – Depart: January 26\, 2025 \nCapacity 8 minimum – 10 Maximum \nCosts: = $2250 per person + flights + meals and drinks not eaten at our accommodations site \n50% Deposit due ASAP to lock in place. Final Balance due by December 1\, 2024 \nCost covers: Airport shuttle to and from The Island School. Breakfast\, Lunch and Dinner eaten on Campus. Kayaking and snorkeling gear. Boat ride to snorkeling location(s). Shuttle around Eleuthera for a tour. \nNot covered: Flights\, shuttles outside of the below mentioned\, any meals not eaten on Campus. DAN Insurance for snorkeling/diving trips. \nCancellation Policy (Events and Classes) \nOur event holds limited seating\, and many of our [Events/Classes] sell out. For this reason\, we request that you cancel by November 1\, 2024. There will be a $200 cancellation fee prior to November 1\, 2024. After November 1\, there are no refunds This will allow us to offer your spot to another [Student/Customer]. You may call us at 843-441-0328 or email between the hours of 8a.m. to 5 p.m. Eastern Time to cancel. \nLocation: The Island School of the Bahamas – Eleuthera\, Bahamas \nAccommodations: The Island School Dorms\nThe rooms have 2 twin beds\, bunk beds and a shared restroom with another room. They are facing the water. There is internet access\, but no TVs. \nItinerary: \nDay 1: Arrive at Rock Sound\, Eleuthera (RSD) Airport by 4:30 p.m. \nTravel to (NAS) Lynden Pindling International Airport and catch a flight from there to (RSD) Rock Sound International using Bahamas Air or Pineapple Air to arrive at 4:15 p.m. I have found it cheaper to book directly through Bahamas Air. \nShuttle to The Island School will pick us up at the Airport between 4:30 p.m. and 5:00 p.m. \nDay 2: Kayaking trip from the Island School exploring the local waterways. Plenty of swimming and beautiful water. \nDay 3: Island Tour – Tour around the Island to see local beaches\, caves\, restaurants\, bakery’s etc \nDay 4: Kayaking tour \nDay 5: Island Tour or kayaking tour \nDay6: Snorkeling \nDay 7: Depart campus early AM (Estimated departure time of 6:30 a.m.) to catch flights from RSD to NAS. \n*** Itinerary is subject to change due to weather and logistics needs. \nReservations are on a first come first serve basis
URL:https://wavepaddler.com/event/bahamas-exploration-eleuthera-2025/
LOCATION:Eleuthera\, Bahamas
ORGANIZER;CN="Jeff Atkins":MAILTO:wavepaddlerjeff@gmail.com
END:VEVENT
END:VCALENDAR