BEGIN:VCALENDAR
VERSION:2.0
PRODID:-//Wave Paddler - Charleston, SC - ECPv6.15.14//NONSGML v1.0//EN
CALSCALE:GREGORIAN
METHOD:PUBLISH
X-ORIGINAL-URL:https://wavepaddler.com
X-WR-CALDESC:Events for Wave Paddler - Charleston, SC
REFRESH-INTERVAL;VALUE=DURATION:PT1H
X-Robots-Tag:noindex
X-PUBLISHED-TTL:PT1H
BEGIN:VTIMEZONE
TZID:America/New_York
BEGIN:DAYLIGHT
TZOFFSETFROM:-0500
TZOFFSETTO:-0400
TZNAME:EDT
DTSTART:20230312T070000
END:DAYLIGHT
BEGIN:STANDARD
TZOFFSETFROM:-0400
TZOFFSETTO:-0500
TZNAME:EST
DTSTART:20231105T060000
END:STANDARD
BEGIN:DAYLIGHT
TZOFFSETFROM:-0500
TZOFFSETTO:-0400
TZNAME:EDT
DTSTART:20240310T070000
END:DAYLIGHT
BEGIN:STANDARD
TZOFFSETFROM:-0400
TZOFFSETTO:-0500
TZNAME:EST
DTSTART:20241103T060000
END:STANDARD
BEGIN:DAYLIGHT
TZOFFSETFROM:-0500
TZOFFSETTO:-0400
TZNAME:EDT
DTSTART:20250309T070000
END:DAYLIGHT
BEGIN:STANDARD
TZOFFSETFROM:-0400
TZOFFSETTO:-0500
TZNAME:EST
DTSTART:20251102T060000
END:STANDARD
END:VTIMEZONE
BEGIN:VEVENT
DTSTART;TZID=America/New_York:20241108T080000
DTEND;TZID=America/New_York:20241111T170000
DTSTAMP:20260420T014113
CREATED:20230823T215439Z
LAST-MODIFIED:20240714T173556Z
UID:5135-1731052800-1731344400@wavepaddler.com
SUMMARY:Level 4: Open Water Coastal Kayaking Instructor Development Workshop
DESCRIPTION:Combined Level 4 Update and Instructor Development Workshop. Update candidates must be current L4 Instructors. Upgrade candidates must be current L3 Instructors and have completed an L4 Skills Assessment. Please contact if you need help arranging a skills assessment. \nCONTACT INFORMATION\nAshley Brown and Dale Williams\nwavepaddlerashley@gmail.com or seakayakingusa@gmail.com
URL:https://wavepaddler.com/event/level-4-open-water-coastal-kayaking-instructor-development-workshop/
LOCATION:Tybee Isand\, Ga\, GA\, 31328\, United States
END:VEVENT
END:VCALENDAR