BEGIN:VCALENDAR
VERSION:2.0
PRODID:-//Wave Paddler - Charleston, SC - ECPv6.15.14//NONSGML v1.0//EN
CALSCALE:GREGORIAN
METHOD:PUBLISH
X-WR-CALNAME:Wave Paddler - Charleston, SC
X-ORIGINAL-URL:https://wavepaddler.com
X-WR-CALDESC:Events for Wave Paddler - Charleston, SC
REFRESH-INTERVAL;VALUE=DURATION:PT1H
X-Robots-Tag:noindex
X-PUBLISHED-TTL:PT1H
BEGIN:VTIMEZONE
TZID:America/New_York
BEGIN:DAYLIGHT
TZOFFSETFROM:-0500
TZOFFSETTO:-0400
TZNAME:EDT
DTSTART:20230312T070000
END:DAYLIGHT
BEGIN:STANDARD
TZOFFSETFROM:-0400
TZOFFSETTO:-0500
TZNAME:EST
DTSTART:20231105T060000
END:STANDARD
BEGIN:DAYLIGHT
TZOFFSETFROM:-0500
TZOFFSETTO:-0400
TZNAME:EDT
DTSTART:20240310T070000
END:DAYLIGHT
BEGIN:STANDARD
TZOFFSETFROM:-0400
TZOFFSETTO:-0500
TZNAME:EST
DTSTART:20241103T060000
END:STANDARD
BEGIN:DAYLIGHT
TZOFFSETFROM:-0500
TZOFFSETTO:-0400
TZNAME:EDT
DTSTART:20250309T070000
END:DAYLIGHT
BEGIN:STANDARD
TZOFFSETFROM:-0400
TZOFFSETTO:-0500
TZNAME:EST
DTSTART:20251102T060000
END:STANDARD
END:VTIMEZONE
BEGIN:VEVENT
DTSTART;VALUE=DATE:20240318
DTEND;VALUE=DATE:20240323
DTSTAMP:20260420T134253
CREATED:20240116T183743Z
LAST-MODIFIED:20240116T183743Z
UID:5144-1710720000-1711151999@wavepaddler.com
SUMMARY:Ten Thousand Islands Mini-Expedition
DESCRIPTION:10\,000 Islands Mini-Expedition \nMarch 18-22\, 2024 (Mon – Fri) \nLocation: Everglades City\, FL (meeting place) \nInstructors/Guides: Jeff Atkins\, Rick Wiebush \nCost: $550 Note: Save 15% if you do this and the Sun Coast trip the following week \n​ \nThe 10\,000 Islands section of Everglades National Park is a virtually untouched wilderness that seems to have been designed for exploration by sea kayak. So that’s what we are going to do for five days and four nights\, moving from camp site to camp site\, expedition-style. We’ll be carrying all our own food\, water\, tents and camping supplies with us in our boats. Expect to paddle about 10-12 nm each day\, using the tides to give us a boost. We’ll be keeping our eyes out for Brown (and maybe White) Pelicans\, Roseate Spoonbills\, dolphins\, sea turtles and possibly a manatee or alligator. We’ll also be paying close attention to our nautical charts since that many islands so close together can seem like a maze! \nOur camp sites are wide\, sandy\, pristine beaches that we want to keep that way\, so Leave No Trace principles will apply. \n​ \nNote: This trip is full but has a standby list
URL:https://wavepaddler.com/event/ten-thousand-islands-mini-expedition/
LOCATION:Everglades City\, FL\, FL\, United States
ORGANIZER;CN="Rick Wiebush":MAILTO:crosscurrentsseakayaking@gmail.com
END:VEVENT
END:VCALENDAR