BEGIN:VCALENDAR
VERSION:2.0
PRODID:-//Wave Paddler - Charleston, SC - ECPv6.15.14//NONSGML v1.0//EN
CALSCALE:GREGORIAN
METHOD:PUBLISH
X-WR-CALNAME:Wave Paddler - Charleston, SC
X-ORIGINAL-URL:https://wavepaddler.com
X-WR-CALDESC:Events for Wave Paddler - Charleston, SC
REFRESH-INTERVAL;VALUE=DURATION:PT1H
X-Robots-Tag:noindex
X-PUBLISHED-TTL:PT1H
BEGIN:VTIMEZONE
TZID:America/New_York
BEGIN:DAYLIGHT
TZOFFSETFROM:-0500
TZOFFSETTO:-0400
TZNAME:EDT
DTSTART:20210314T070000
END:DAYLIGHT
BEGIN:STANDARD
TZOFFSETFROM:-0400
TZOFFSETTO:-0500
TZNAME:EST
DTSTART:20211107T060000
END:STANDARD
BEGIN:DAYLIGHT
TZOFFSETFROM:-0500
TZOFFSETTO:-0400
TZNAME:EDT
DTSTART:20220313T070000
END:DAYLIGHT
BEGIN:STANDARD
TZOFFSETFROM:-0400
TZOFFSETTO:-0500
TZNAME:EST
DTSTART:20221106T060000
END:STANDARD
BEGIN:DAYLIGHT
TZOFFSETFROM:-0500
TZOFFSETTO:-0400
TZNAME:EDT
DTSTART:20230312T070000
END:DAYLIGHT
BEGIN:STANDARD
TZOFFSETFROM:-0400
TZOFFSETTO:-0500
TZNAME:EST
DTSTART:20231105T060000
END:STANDARD
END:VTIMEZONE
BEGIN:VEVENT
DTSTART;TZID=America/New_York:20220729T080000
DTEND;TZID=America/New_York:20220731T170000
DTSTAMP:20260421T194258
CREATED:20220110T185107Z
LAST-MODIFIED:20220110T185107Z
UID:5032-1659081600-1659286800@wavepaddler.com
SUMMARY:Women's Adventure Weekend
DESCRIPTION:A weekend of classes led by Ashley is spelled F-U-N! And L-E-A-R-N-A-L-O-T! \nThere will be plenty of adventure this weekend as you learn how to deal with somewhat bouncier water (for some in the groups) and very bouncy water (for others in the group). Metompkin Inlet provides the best possible venue along the DelMarVa coastline for learning. It has a variety of conditions for a safe and exciting learning environment. \nFor the less-experienced members of the group\, this three-day course will expose you to paddling in surf\, current and open water. You’ll get acclimated to rougher water by practicing skills in smaller waves\, including those skills that will keep you upright in current\, waves and surf. You will learn a variety of techniques to launch and land through surf and to play safely in the surf zone. When you are ready\, we’ll gradually increase the challenges by venturing into more challenging conditions. Rescue drills will be intermixed and\, if conditions permit\, we will try our hand at surfing our kayaks. \nThe more experienced participants will have an opportunity to learn advanced skills and practice them in the bigger conditions that are available at Metompkin (like that beautiful surf break off the northern part of the inlet.) The class will include strategies for dealing with the various confused water features found in the area and ways of grappling with issues that arise as a result of things going awry. Figure on some incident management in rough water\, including rescues\, towing\, back-deck carries\, etc. Time will also be spent on reading the water\, risk assessment and some leadership skills. \nThis is always a fun and exciting weekend. You will come away with a new skill set and greater confidence. Part of what makes this a fun weekend is that we will be staying together at the Wachapreague Inn. You will have a choice of staying in a group house or one of the motel rooms. Housing is not included in the course fee\, but is usually only about $60/night.
URL:https://wavepaddler.com/event/womens-adventure-weekend/
LOCATION:Metompkin Inlet
ORGANIZER;CN="Rick Wiebush":MAILTO:crosscurrentsseakayaking@gmail.com
END:VEVENT
END:VCALENDAR