BEGIN:VCALENDAR
VERSION:2.0
PRODID:-//Wave Paddler - Charleston, SC - ECPv6.15.14//NONSGML v1.0//EN
CALSCALE:GREGORIAN
METHOD:PUBLISH
X-WR-CALNAME:Wave Paddler - Charleston, SC
X-ORIGINAL-URL:https://wavepaddler.com
X-WR-CALDESC:Events for Wave Paddler - Charleston, SC
REFRESH-INTERVAL;VALUE=DURATION:PT1H
X-Robots-Tag:noindex
X-PUBLISHED-TTL:PT1H
BEGIN:VTIMEZONE
TZID:America/New_York
BEGIN:DAYLIGHT
TZOFFSETFROM:-0500
TZOFFSETTO:-0400
TZNAME:EDT
DTSTART:20210314T070000
END:DAYLIGHT
BEGIN:STANDARD
TZOFFSETFROM:-0400
TZOFFSETTO:-0500
TZNAME:EST
DTSTART:20211107T060000
END:STANDARD
BEGIN:DAYLIGHT
TZOFFSETFROM:-0500
TZOFFSETTO:-0400
TZNAME:EDT
DTSTART:20220313T070000
END:DAYLIGHT
BEGIN:STANDARD
TZOFFSETFROM:-0400
TZOFFSETTO:-0500
TZNAME:EST
DTSTART:20221106T060000
END:STANDARD
BEGIN:DAYLIGHT
TZOFFSETFROM:-0500
TZOFFSETTO:-0400
TZNAME:EDT
DTSTART:20230312T070000
END:DAYLIGHT
BEGIN:STANDARD
TZOFFSETFROM:-0400
TZOFFSETTO:-0500
TZNAME:EST
DTSTART:20231105T060000
END:STANDARD
END:VTIMEZONE
BEGIN:VEVENT
DTSTART;TZID=America/New_York:20220520T080000
DTEND;TZID=America/New_York:20220522T170000
DTSTAMP:20260421T222235
CREATED:20191206T184939Z
LAST-MODIFIED:20220110T174514Z
UID:826-1653033600-1653238800@wavepaddler.com
SUMMARY:Oceans '22
DESCRIPTION:This event started as a forum discussion among sea kayakers with a desire to have more opportunity to advance their skills. The gist of it was that you’re never advised to go out in conditions beyond your current ability\, and you’re supposed to go out and push your own skills around paddlers who are comfortable in the conditions that you aspire to paddle in. So it can be difficult for many to find opportunities to expand their skill set and gain experience and comfort in more dynamic environments\, and do all that in a safe and controlled way. So a few of us decided that a discussion is just a discussion – let’s make something happen. With great help from a terrific group of ACA instructors\, this event was born. – See the website for more details!
URL:https://wavepaddler.com/event/oceans-20/
LOCATION:Huntington Beach State Park\, SC\, 16148 Ocean Hwy\, Murrells Inlet\, SC\, 29576\, United States
ATTACH;FMTTYPE=image/jpeg:https://wavepaddler.com/wp-content/uploads/AshleyBrown-souping-it-up.jpg
ORGANIZER;CN="Chris Rezac":MAILTO:chrisrezac@hotmail.com
END:VEVENT
END:VCALENDAR